BEGIN:VCALENDAR
VERSION:2.0
PRODID:-//Förderverein der 60. GS Leipzig - ECPv6.15.20//NONSGML v1.0//EN
CALSCALE:GREGORIAN
METHOD:PUBLISH
X-WR-CALNAME:Förderverein der 60. GS Leipzig
X-ORIGINAL-URL:https://www.fvgs-60.de
X-WR-CALDESC:Veranstaltungen für Förderverein der 60. GS Leipzig
REFRESH-INTERVAL;VALUE=DURATION:PT1H
X-Robots-Tag:noindex
X-PUBLISHED-TTL:PT1H
BEGIN:VTIMEZONE
TZID:Europe/Berlin
BEGIN:DAYLIGHT
TZOFFSETFROM:+0100
TZOFFSETTO:+0200
TZNAME:CEST
DTSTART:20250330T010000
END:DAYLIGHT
BEGIN:STANDARD
TZOFFSETFROM:+0200
TZOFFSETTO:+0100
TZNAME:CET
DTSTART:20251026T010000
END:STANDARD
BEGIN:DAYLIGHT
TZOFFSETFROM:+0100
TZOFFSETTO:+0200
TZNAME:CEST
DTSTART:20260329T010000
END:DAYLIGHT
BEGIN:STANDARD
TZOFFSETFROM:+0200
TZOFFSETTO:+0100
TZNAME:CET
DTSTART:20261025T010000
END:STANDARD
BEGIN:DAYLIGHT
TZOFFSETFROM:+0100
TZOFFSETTO:+0200
TZNAME:CEST
DTSTART:20270328T010000
END:DAYLIGHT
BEGIN:STANDARD
TZOFFSETFROM:+0200
TZOFFSETTO:+0100
TZNAME:CET
DTSTART:20271031T010000
END:STANDARD
END:VTIMEZONE
BEGIN:VEVENT
DTSTART;TZID=Europe/Berlin:20260418T090000
DTEND;TZID=Europe/Berlin:20260418T120000
DTSTAMP:20260424T141724
CREATED:20230420T204400Z
LAST-MODIFIED:20260412T174511Z
UID:1782-1776502800-1776513600@www.fvgs-60.de
SUMMARY:Frühjahresputz 2026
DESCRIPTION:Frühjahresputz im und ums Schulgebäude mit anschließender Stärkung vom Grill.
URL:https://www.fvgs-60.de/events/fruehjahresputz-2026/
LOCATION:60. Grundschule Leipzig\, Seumestraße 93\, Leipzig\, Sachsen\, 04249\, Deutschland
END:VEVENT
END:VCALENDAR